BEGIN:VCALENDAR
VERSION:2.0
PRODID:-//hacksw/handcal//NONSGML v1.0//EN
BEGIN:VEVENT
SUMMARY:Match contre Ecole Valentin
UID:a7602311-f0ba-4a7b-aa1d-7053b8cf057c
DTSTART:20260327T193000Z
DTEND:20260327T230000Z
LOCATION:Localisation   
CATEGORIES:Sportif
STATUS:
URL;VALUE=URI:https://www.fcmontsdegy.com/evenements/2026/03/27/match-contre-ecole-valentin-2431859
END:VEVENT
END:VCALENDAR
