BEGIN:VCALENDAR
VERSION:2.0
PRODID:-//hacksw/handcal//NONSGML v1.0//EN
BEGIN:VEVENT
SUMMARY:Championnat
UID:b9211b97-d972-45e2-ae32-367c12796572
DTSTART:20260328T150000Z
DTEND:20260328T230000Z
LOCATION:Localisation   
CATEGORIES:Sportif
STATUS:
DESCRIPTION:<p>4eme journee - Departemental 3</p>
URL;VALUE=URI:https://www.fcmontsdegy.com/evenements/2026/03/28/championnat-2431667
END:VEVENT
END:VCALENDAR
