BEGIN:VCALENDAR
VERSION:2.0
PRODID:-//hacksw/handcal//NONSGML v1.0//EN
BEGIN:VEVENT
SUMMARY:Championnat
UID:4cf15777-814e-435e-8487-362d92901a83
DTSTART:20260328T123000Z
DTEND:20260328T230000Z
LOCATION:Localisation   
CATEGORIES:Sportif
STATUS:
DESCRIPTION:<p>4eme journee - Niveau 4</p>
URL;VALUE=URI:https://www.fcmontsdegy.com/evenements/2026/03/28/championnat-2431669
END:VEVENT
END:VCALENDAR
