BEGIN:VCALENDAR
VERSION:2.0
PRODID:-//hacksw/handcal//NONSGML v1.0//EN
BEGIN:VEVENT
SUMMARY:Plateau U9
UID:dc9ae7f5-ed54-4fb7-a98f-e767ac303ced
DTSTART:20260328T090000Z
DTEND:20260328T230000Z
LOCATION:Localisation   
CATEGORIES:Sportif
STATUS:
DESCRIPTION:<p>Plateau a Gy a 10h00</p>
URL;VALUE=URI:https://www.fcmontsdegy.com/evenements/2026/03/28/plateau-u9-2431670
END:VEVENT
END:VCALENDAR
