BEGIN:VCALENDAR
VERSION:2.0
PRODID:-//hacksw/handcal//NONSGML v1.0//EN
BEGIN:VEVENT
SUMMARY:Championnat
UID:9b0cc492-0161-4506-b9a0-902ab2dea45f
DTSTART:20260329T130000Z
DTEND:20260329T230000Z
LOCATION:Localisation   
CATEGORIES:Sportif
STATUS:
DESCRIPTION:<p>16eme journee - Departemental 2</p>
URL;VALUE=URI:https://www.fcmontsdegy.com/evenements/2026/03/29/championnat-2431664
END:VEVENT
END:VCALENDAR
