BEGIN:VCALENDAR
VERSION:2.0
PRODID:-//hacksw/handcal//NONSGML v1.0//EN
BEGIN:VEVENT
SUMMARY:Championnat
UID:efb455aa-a2e2-4178-8dca-8c4a10c7664a
DTSTART:20260329T080000Z
DTEND:20260329T230000Z
LOCATION:Localisation   
CATEGORIES:Sportif
STATUS:
DESCRIPTION:<p>4eme journee - Departemental 4</p>
URL;VALUE=URI:https://www.fcmontsdegy.com/evenements/2026/03/29/championnat-2431665
END:VEVENT
END:VCALENDAR
