BEGIN:VCALENDAR
VERSION:2.0
PRODID:-//hacksw/handcal//NONSGML v1.0//EN
BEGIN:VEVENT
SUMMARY:Match Loisirs F
UID:1f149732-f268-4da1-bae8-410c51364ece
DTSTART:20260329T080000Z
DTEND:20260329T230000Z
LOCATION:Localisation   
CATEGORIES:Sportif
STATUS:
URL;VALUE=URI:https://www.fcmontsdegy.com/evenements/2026/03/29/match-loisirs-f-2431864
END:VEVENT
END:VCALENDAR
