BEGIN:VCALENDAR
VERSION:2.0
PRODID:-//hacksw/handcal//NONSGML v1.0//EN
BEGIN:VEVENT
SUMMARY:Challenge de district - 8eme de finale
UID:7d2f243c-741e-453f-b627-e80a13759a8d
DTSTART:20260406T100000Z
DTEND:20260406T220000Z
LOCATION:Localisation   
CATEGORIES:Sportif
STATUS:
DESCRIPTION:8eme de finale de challenge de district face a Noidans
 les Vesoul 2
URL;VALUE=URI:https://www.fcmontsdegy.com/evenements/2026/04/06/challenge-de-district-8eme-de-finale-2436173
END:VEVENT
END:VCALENDAR
