BEGIN:VCALENDAR
VERSION:2.0
PRODID:-//hacksw/handcal//NONSGML v1.0//EN
BEGIN:VEVENT
SUMMARY:Championnat
UID:28a16bc5-cad1-44e8-932d-08ea91cdadfa
DTSTART:20260406T130000Z
DTEND:20260406T220000Z
LOCATION:Localisation   
CATEGORIES:Sportif
STATUS:
DESCRIPTION:12eme journee - D2
URL;VALUE=URI:https://www.fcmontsdegy.com/evenements/2026/04/06/championnat-2435615
END:VEVENT
END:VCALENDAR
