BEGIN:VCALENDAR
VERSION:2.0
PRODID:-//hacksw/handcal//NONSGML v1.0//EN
BEGIN:VEVENT
SUMMARY:Coupe de Haute-Saone
UID:9ffee9c7-31fe-4537-852b-356e63725522
DTSTART:20260406T100000Z
DTEND:20260406T220000Z
LOCATION:Localisation   
CATEGORIES:Sportif
STATUS:
DESCRIPTION:8eme de finale de coupe de Haute-Saone 
URL;VALUE=URI:https://www.fcmontsdegy.com/evenements/2026/04/06/coupe-de-haute-saone-2435617
END:VEVENT
END:VCALENDAR
