BEGIN:VCALENDAR
VERSION:2.0
PRODID:-//hacksw/handcal//NONSGML v1.0//EN
BEGIN:VEVENT
SUMMARY:Championnat
UID:dd60d821-183a-4e56-b33d-7d6d6902bd5a
DTSTART:20260411T170000Z
DTEND:20260411T220000Z
LOCATION:Localisation   
CATEGORIES:Sportif
STATUS:
URL;VALUE=URI:https://www.fcmontsdegy.com/evenements/2026/04/11/championnat-2438896
END:VEVENT
END:VCALENDAR
