BEGIN:VCALENDAR
VERSION:2.0
PRODID:-//hacksw/handcal//NONSGML v1.0//EN
BEGIN:VEVENT
SUMMARY:Championnat
UID:59355dfe-6ded-4db3-8c9c-a160bfbb4ef4
DTSTART:20260412T130000Z
DTEND:20260412T220000Z
LOCATION:Localisation   
CATEGORIES:Sportif
STATUS:
URL;VALUE=URI:https://www.fcmontsdegy.com/evenements/2026/04/12/championnat-2438897
END:VEVENT
END:VCALENDAR
