BEGIN:VCALENDAR
VERSION:2.0
PRODID:-//hacksw/handcal//NONSGML v1.0//EN
BEGIN:VEVENT
SUMMARY:Plateau U9
UID:d46285d1-2a8e-436e-9b43-2b3d0818cb62
DTSTART:20260425T080000Z
DTEND:20260425T220000Z
LOCATION:Localisation   
CATEGORIES:Sportif
STATUS:
URL;VALUE=URI:https://www.fcmontsdegy.com/evenements/2026/04/25/plateau-u9-2443408
END:VEVENT
END:VCALENDAR
